BEGIN:VCALENDAR
VERSION:2.0
PRODID:-//ChamberMaster//Event Calendar 2.0//EN
METHOD:PUBLISH
X-PUBLISHED-TTL:P3D
REFRESH-INTERVAL:P3D
CALSCALE:GREGORIAN
BEGIN:VEVENT
DTSTART:20260312T170000Z
DTEND:20260312T173000Z
X-MICROSOFT-CDO-ALLDAYEVENT:FALSE
SUMMARY:March 2026 Business Spotlight
DESCRIPTION:March 2026 Business Spotlight!\n\nWe're excited to kick off our first Business Spotlight of the year\, proudly sponsored by Visions Federal Credit Union!\n\nThis month\, we are thrilled to highlight two businesses that continue to make a meaningful impact in our community: Hampton Inn and Best Western. Through their commitment to exceptional hospitality\, support for local events\, and dedication to welcoming visitors to our area\, these businesses play an important role in strengthening and promoting our community.\n\nThank you to both teams for the great work you do and for being valued members of our local business community!
X-ALT-DESC;FMTTYPE=text/html:<p data-end="41" data-start="0"><strong data-end="37" data-start="2">March 2026 Business Spotlight!</strong></p>\n\n<p data-end="176" data-start="43">We&rsquo\;re excited to kick off our first <strong data-end="113" data-start="79">Business Spotlight of the year</strong>\, proudly sponsored by <span class="hover:entity-accent entity-underline inline cursor-pointer align-baseline">Visions Federal Credit Union</span>!</p>\n\n<p data-end="540" data-start="178">This month\, we are thrilled to highlight two businesses that continue to make a meaningful impact in our community: Hampton Inn and Best Western. Through their commitment to exceptional hospitality\, support for local events\, and dedication to welcoming visitors to our area\, these businesses play an important role in strengthening and promoting our community.</p>\n\n<p data-end="656" data-is-last-node="" data-is-only-node="" data-start="542">Thank you to both teams for the great work you do and for being valued members of our local business community! &#128079\;</p>\n
LOCATION:Hampton Inn\, Owego\, NY 13827
UID:e.2820.1847
SEQUENCE:3
DTSTAMP:20260420T023603Z
URL:https://www.tiogachamber.com/events/details/march-2026-business-spotlight-1847
END:VEVENT

END:VCALENDAR
