BEGIN:VCALENDAR
VERSION:2.0
PRODID:-//ChamberMaster//Event Calendar 2.0//EN
METHOD:PUBLISH
X-PUBLISHED-TTL:P3D
REFRESH-INTERVAL:P3D
CALSCALE:GREGORIAN
BEGIN:VEVENT
DTSTART:20251105T130000Z
DTEND:20251105T143000Z
X-MICROSOFT-CDO-ALLDAYEVENT:FALSE
SUMMARY:Human Resource Roundtable #49
DESCRIPTION:49th In a Series of Human Resources\n\nPanel Discussions To Benefit Businesses in Tioga County\, New York\n\n\n\n"Effective Workplace Communication and Conflict Management"\n\n\n\nModerator: Jim Franz - Hinman\, Howard & Kattell\, LLP\n\nPanelists: Chris Ballard - Lockheed Martin Corporation\n\nAmy Foster - Tioga Opportunities\, Inc.\n\nDawn Lanouette - Hinman\, Howard & Kattell\, LLP\n\n\n\n\n\nTime: 8:00 a.m. - 9:30 a.m.\n\nDate: Wednesday\, November 5\, 2025\n\nPrice: Free of charge for Tioga County Chamber of Commerce members\n\nRegistration: Please contact the Tioga County Chamber of Commerce via email at business@tiogachamber.com or by phone at 607-687-7335 to register for this event.\n\n\n\nAll registrations are required by Friday\, October 31\, 2025. Registrants are asked to arrive early on the day of the Roundtable program and to bring photo identification (e.g. driver's license) for security purposes.\n\n\n\nWho should attend:\n\nSupervisors\, owners\, human resources managers\n\nand staff of any business in Tioga County. The Human\n\nResources Roundtable is geared toward businesspersons\n\nwith varying levels of personnel management\n\ntraining and experience.\n\n\n\nADVANCE ONLINE RESERVATIONS ARE REQUIRED. If you have additional questions please CONTACT SABRINA HENRIQUES\, AT THE TIOGA COUNTY CHAMBER OF COMMERCE (607) 687-7335.
X-ALT-DESC;FMTTYPE=text/html:<span style="font-size:18px\;"><strong><span style="font-family: arialmt\;">49th</span><span style="font-family: arialmt\;"> </span><span style="font-family: arialmt\;">In a Series of Human Resources</span><br />\n<span style="font-family: arialmt\;">Panel Discussions To Benefit Businesses in Tioga County\, New York</span></strong></span><br />\n<br />\n<span style="font-size:20px\;"><em><strong>&quot\;Effective Workplace Communication and Conflict Management&quot\;</strong></em></span><br />\n<br />\nModerator: Jim Franz - Hinman\, Howard &amp\; Kattell\, LLP<br />\nPanelists: Chris Ballard - Lockheed Martin Corporation<br />\nAmy Foster - Tioga Opportunities\, Inc.<br />\nDawn Lanouette - Hinman\, Howard &amp\; Kattell\, LLP<br />\n<br />\n<br />\nTime: 8:00 a.m. - 9:30 a.m.<br />\nDate: Wednesday\, November 5\, 2025<br />\nPrice: Free of charge for Tioga County Chamber of Commerce members<br />\nRegistration: Please contact the Tioga County Chamber of Commerce via email at business@tiogachamber.com or by phone at 607-687-7335 to register for this event.<br />\n<br />\nAll registrations are required by Friday\, October 31\, 2025. Registrants are asked to arrive early on the day of the Roundtable program and to bring photo identification (e.g. driver&#39\;s license) for security purposes.<br />\n<br />\nWho should attend:<br />\nSupervisors\, owners\, human resources managers<br />\nand staff of any business in Tioga County. The Human<br />\nResources Roundtable is geared toward businesspersons<br />\nwith varying levels of personnel management<br />\ntraining and experience.<br />\n<br />\nADVANCE ONLINE RESERVATIONS ARE REQUIRED. If you have additional questions please CONTACT SABRINA HENRIQUES\, AT THE TIOGA COUNTY CHAMBER OF COMMERCE (607) 687-7335.<br />\n&nbsp\;
LOCATION:Host: Lockheed Martin Corporation Location: 1801 State Route 17C\, Owego\, NY 13827
UID:e.2820.1825
SEQUENCE:3
DTSTAMP:20260419T190601Z
URL:https://www.tiogachamber.com/events/details/human-resource-roundtable-49-1825
END:VEVENT

END:VCALENDAR
