BEGIN:VCALENDAR
VERSION:2.0
PRODID:-//ChamberMaster//Event Calendar 2.0//EN
METHOD:PUBLISH
X-PUBLISHED-TTL:P3D
REFRESH-INTERVAL:P3D
CALSCALE:GREGORIAN
BEGIN:VEVENT
DTSTART:20261028T160000Z
DTEND:20261028T180000Z
X-MICROSOFT-CDO-ALLDAYEVENT:FALSE
SUMMARY:Legal Edge: 2026 Attorney Workshop Series - Commercial Real Estate Lending
DESCRIPTION:More details to come!
X-ALT-DESC;FMTTYPE=text/html:<span style="color: rgb(0\, 0\, 0)\; font-family: Aptos\, sans-serif\; font-size: 14.6667px\;">More details to come!</span>
LOCATION:Board of Education Building\, 5 Sheldon Guile Blvd\, Owego\, NY
UID:e.2820.1850
SEQUENCE:3
DTSTAMP:20260425T120526Z
URL:https://www.tiogachamber.com/events/details/2026-attorney-workshop-series-commercial-real-estate-lending-1850
END:VEVENT

END:VCALENDAR
