BEGIN:VCALENDAR
VERSION:2.0
PRODID:-//ChamberMaster//Event Calendar 2.0//EN
METHOD:PUBLISH
X-PUBLISHED-TTL:P3D
REFRESH-INTERVAL:P3D
CALSCALE:GREGORIAN
BEGIN:VEVENT
DTSTART:20250821T133000Z
DTEND:20250821T160000Z
X-MICROSOFT-CDO-ALLDAYEVENT:FALSE
SUMMARY:2025 Nonprofit Summer Workshop Series- Session Two- Grant Writing
DESCRIPTION:Calling All Nonprofits!  \n\nFREE professional workshops are back this summer   and you won't want to miss them!\n\n  Summer Nonprofit Workshop Series\n\nHosted by the Tioga County Chamber of Commerce & Community Foundation for South Central NY\n\n  Location: 5 Sheldon Guile Blvd\, Owego (BOE Boardroom)\n\n   FREE to attend   registration required!\n\n   August 21\, 2025 Morning Session   9:30 AM to 12:00 PM\n\n  Grant Writing Workshop\n\nPresented by: Community Foundation for South Central NY\n\n  Want to secure more funding for your organization? It starts with telling your story.\n\nJoin us for this essential Grant Writing Workshop designed to help nonprofits strengthen their messaging and boost their success with grant applications.\n\nIn this interactive session\, you'll learn how to:\n\n   Craft a compelling narrative that communicates your mission and impact\n\n   Align your goals with funders' priorities\n\n   Avoid common application pitfalls\n\n   Strengthen your case for support with data and storytelling\n\nWhether you're new to grant writing or looking to sharpen your skills\, this workshop will give you the tools to write with confidence and purpose.\n\n  Don't miss this opportunity to level up your proposals and connect with local funders!\n\n  Register now at www.tiogachamber.com\n\n#TiogaChamber #NonprofitSupport #GrantWriting #MeetTheFunders #FreeWorkshop #TiogaCountyNY #CommunityImpact
X-ALT-DESC;FMTTYPE=text/html:<p data-end="256" data-start="137">&#128227\; <strong data-end="167" data-start="140">Calling All Nonprofits!</strong> &#127775\;<br data-end="173" data-start="170" />\nFREE professional workshops are back this summer &mdash\; and you won&rsquo\;t want to miss them!</p>\n\n<p data-end="507" data-start="258">&#128188\; <strong data-end="297" data-start="261">Summer Nonprofit Workshop Series</strong><br data-end="300" data-start="297" />\nHosted by the <strong data-end="350" data-start="314">Tioga County Chamber of Commerce</strong> &amp\; <strong data-end="398" data-start="353">Community Foundation for South Central NY</strong><br data-end="401" data-start="398" />\n&#128205\; <em data-end="415" data-start="404">Location:</em> 5 Sheldon Guile Blvd\, Owego (BOE Boardroom)<br data-end="462" data-start="459" />\n&#127903\;&#65039\; <em data-end="507" data-start="466">FREE to attend &ndash\; registration required!</em></p>\n\n<p data-end="284" data-start="145">&#128467\;&#65039\; <strong data-end="190" data-start="149">August 21\, 2025 Morning Session &ndash\; 9:30 AM to 12:00 PM</strong><br data-end="193" data-start="190" />\n&#128214\; <strong data-end="222" data-start="196">Grant Writing Workshop</strong><br data-end="225" data-start="222" />\n<strong data-end="284" data-start="225">Presented by: Community Foundation for South Central NY</strong></p>\n\n<p data-end="378" data-start="286">&#127919\; <strong data-end="378" data-start="289">Want to secure more funding for your organization? It starts with telling your story.</strong></p>\n\n<p data-end="537" data-start="380">Join us for this essential <strong data-end="433" data-start="407">Grant Writing Workshop</strong> designed to help nonprofits strengthen their messaging and boost their success with grant applications.</p>\n\n<p data-end="817" data-start="539">In this interactive session\, you&#39\;ll learn how to:<br data-end="591" data-start="588" />\n&#10004\;&#65039\; Craft a compelling narrative that communicates your mission and impact<br data-end="667" data-start="664" />\n&#10004\;&#65039\; Align your goals with funders&#39\; priorities<br data-end="714" data-start="711" />\n&#10004\;&#65039\; Avoid common application pitfalls<br data-end="753" data-start="750" />\n&#10004\;&#65039\; Strengthen your case for support with data and storytelling</p>\n\n<p data-end="965" data-start="819">Whether you&#39\;re new to grant writing or looking to sharpen your skills\, this workshop will give you the tools to write with confidence and purpose.</p>\n\n<p data-end="1062" data-start="967">&#128273\; <strong data-end="1060" data-start="970">Don&#39\;t miss this opportunity to level up your proposals and connect with local funders!</strong></p>\n\n<p data-end="1377" data-start="1224">&#128073\; <strong data-end="1267" data-start="1227">Register now at <a data-end="1265" data-start="1245" href="http://www.tiogachamber.com" rel="noopener" target="_new">www.tiogachamber.com</a></strong><br data-end="1270" data-start="1267" />\n#TiogaChamber #NonprofitSupport #GrantWriting #MeetTheFunders #FreeWorkshop #TiogaCountyNY #CommunityImpact</p>\n
LOCATION:5 Sheldon Guile Blvd\, Owego\, NY. Board of Education Building.
UID:e.2820.1803
SEQUENCE:3
DTSTAMP:20260419T134610Z
URL:https://www.tiogachamber.com/events/details/2025-nonprofit-summer-workshop-series-session-two-grant-writing-1803
END:VEVENT

END:VCALENDAR
