BEGIN:VCALENDAR
VERSION:2.0
PRODID:-//ChamberMaster//Event Calendar 2.0//EN
METHOD:PUBLISH
X-PUBLISHED-TTL:P3D
REFRESH-INTERVAL:P3D
CALSCALE:GREGORIAN
BEGIN:VEVENT
DTSTART:20250821T170000Z
DTEND:20250821T190000Z
X-MICROSOFT-CDO-ALLDAYEVENT:FALSE
SUMMARY:2025 Nonprofit Summer Workshop Series- Session Three- Grant Budget
DESCRIPTION:Summer Nonprofit Workshop Series- Session 3!!! \n\nHosted by Tioga County Chamber In partnership with Community Foundation for South Central NY \n\n\n\n   Thursday\, August 21\, 2025\n\n  1:00 PM   3:00 PM\n\n\n\n  Location: 5 Sheldon Guile Blvd\, Owego (BOE Boardroom)\n\n   FREE to attend   registration required!\n\nGrant & Proposal Budgets Workshop\n\nPresented by Community Foundation for South Central NY\n\n \n\n\nLearn how to:\n\n   Build clear and funder-friendly budgets\n\n   Align your budget with your project narrative\n\n   Understand funder expectations\n\n   Avoid common financial mistakes in proposals\n\n   Support your request with solid\, justifiable figures\n\n\nWHO SHOULD ATTEND:\n\nNonprofit staff\, finance managers\, grant writers\, and program directors involved in budgeting for grants and proposals.\n\n  A strong budget can make or break your application   learn how to make yours stand out!\n\n\n  Limited space   reserve your seat now!\n\n  business@tiogachamber.com\n\n  (607) 687-7335\n\n  www.tiogachamber.com\n\n\nHosted by the Tioga County Chamber of Commerce\n\nPart of the 2025 Nonprofit Workshop Series
X-ALT-DESC;FMTTYPE=text/html:<p data-end="256" data-start="137">&#128188\; <strong data-end="297" data-start="261">Summer Nonprofit Workshop Series- Session 3!!!&nbsp\;<br />\nHosted by Tioga County Chamber In partnership with Community Foundation for South Central NY&nbsp\;</strong><br />\n<br />\n&#128467\;&#65039\; <strong data-end="372" data-start="342">Thursday\, August 21\, 2025</strong><br data-end="375" data-start="372" />\n&#128336\; <strong data-end="399" data-start="378">1:00 PM &ndash\; 3:00 PM</strong><br data-end="300" data-start="297" />\n<br data-end="401" data-start="398" />\n&#128205\; <em data-end="415" data-start="404">Location:</em> 5 Sheldon Guile Blvd\, Owego (BOE Boardroom)<br data-end="462" data-start="459" />\n&#127903\;&#65039\; <em data-end="507" data-start="466">FREE to attend &ndash\; registration required!</em></p>\n\n<h3 data-end="282" data-start="239"><strong data-end="280" data-start="243">Grant &amp\; Proposal Budgets Workshop</strong></h3>\n\n<p data-end="336" data-start="283"><strong data-end="336" data-start="283">Presented by&nbsp\;</strong>Community Foundation for South Central NY</p>\n\n<p data-end="469" data-start="338">&nbsp\;</p>\n\n<hr data-end="474" data-start="471" />\n<p data-end="733" data-start="476"><strong data-end="493" data-start="476">Learn how to:</strong><br />\n&#10004\;&#65039\; Build clear and funder-friendly budgets<br data-end="539" data-start="536" />\n&#10004\;&#65039\; Align your budget with your project narrative<br data-end="590" data-start="587" />\n&#10004\;&#65039\; Understand funder expectations<br data-end="626" data-start="623" />\n&#10004\;&#65039\; Avoid common financial mistakes in proposals<br data-end="676" data-start="673" />\n&#10004\;&#65039\; Support your request with solid\, justifiable figures</p>\n\n<hr data-end="738" data-start="735" />\n<p data-end="884" data-start="740"><strong data-end="762" data-start="740">WHO SHOULD ATTEND:</strong><br data-end="765" data-start="762" />\nNonprofit staff\, finance managers\, grant writers\, and program directors involved in budgeting for grants and proposals.</p>\n\n<p data-end="980" data-start="886">&#128202\; <strong data-end="980" data-start="889">A strong budget can make or break your application &mdash\; learn how to make yours stand out!</strong></p>\n\n<hr data-end="985" data-start="982" />\n<p data-end="1135" data-start="987">&#9989\; <strong data-end="1031" data-start="989">Limited space &ndash\; reserve your seat now!</strong><br data-end="1034" data-start="1031" />\n&#128231\; <a class="cursor-pointer" data-end="1058" data-start="1037" rel="noopener">business@tiogachamber.com</a><br data-end="1061" data-start="1058" />\n&#128222\; (607) 687-7335<br data-end="1081" data-start="1078" />\n&#127760\; <a data-end="1135" data-start="1084" href="http://www.tiogachamber.com" rel="noopener" target="_new">www.tiogachamber.com</a></p>\n\n<hr data-end="1140" data-start="1137" />\n<p data-end="1241" data-start="1142"><strong data-end="1192" data-start="1142">Hosted by the Tioga County Chamber of Commerce</strong><br data-end="1195" data-start="1192" />\n<strong data-end="1241" data-start="1195">Part of the 2025 Nonprofit Workshop Series</strong></p>\n
LOCATION:5 Sheldon Guile Blvd\, Owego\, NY. Board of Education Building.
UID:e.2820.1821
SEQUENCE:3
DTSTAMP:20260419T151216Z
URL:https://www.tiogachamber.com/events/details/2025-nonprofit-summer-workshop-series-session-three-grant-budget-1821
END:VEVENT

END:VCALENDAR
